BEGIN:VCALENDAR
PRODID:-//Microsoft Corporation//Outlook 15.0 MIMEDIR//EN
VERSION:2.0
METHOD:PUBLISH
X-MS-OLK-FORCEINSPECTOROPEN:TRUE
BEGIN:VTIMEZONE
TZID:AUS Eastern Standard Time
BEGIN:STANDARD
DTSTART:16010401T030000
RRULE:FREQ=YEARLY;BYDAY=1SU;BYMONTH=4
TZOFFSETFROM:+1100
TZOFFSETTO:+1000
END:STANDARD
BEGIN:DAYLIGHT
DTSTART:16011007T020000
RRULE:FREQ=YEARLY;BYDAY=1SU;BYMONTH=10
TZOFFSETFROM:+1000
TZOFFSETTO:+1100
END:DAYLIGHT
END:VTIMEZONE
BEGIN:VEVENT
CLASS:PUBLIC
CREATED:20181102T041814Z
DESCRIPTION:\n\n 	LAB CHECK WEEK INSTRUCTIONS\n\n\n\n❶ Visit the Thermo F
	isher Scientific and download your ‘Lab Check Week’ guide (INSERT LINK
	 From Lauren) for an overview of the lab check list for your basic benchto
	p equipment. \n\n❷ Complete your check list for each piece of bench tip 
	equipment. \nNOTE: Allow up to 60 minutes per piece of equipment\n\n\n 	 	
	Performance	Accuracy	Uniformity	Sensitivity	Sterility	Cleanliness	Electric
	al Safety	Other	PASS | FAIL	\n 	RECOMMENDED TEST	\nWaterbaths	EQUIPMENT TY
	PE	*	*	*	◦	●	●	●	◦	*	\nDrybaths		*	*	*	◦	◦	●	●	◦		\nHo
	tplates/Stirrers		*	*	*	◦	●	●	●	●		\npH meters		*	*	*	●	◦	
	●	●	◦		\nDO meters		*	*	*	●	◦	●	●	●		\nTitrators		*	*	*	
	●	◦	●	●	◦		\nTurbidimeters		*	*	*	●	◦	●	●	◦		\n 	 	 	 
		 	 	 	 	 	 		\nFAIL    	NOT RECOMMENDED	◦		\nPASS   	RECOMMENDED	●		\
	n\n
DTEND;TZID="AUS Eastern Standard Time":20181123T170000
DTSTAMP:20181030T025200Z
DTSTART;TZID="AUS Eastern Standard Time":20181119T080000
LAST-MODIFIED:20181102T041814Z
LOCATION:Bench top Equipment Maintenance in Laboratory
PRIORITY:5
SEQUENCE:0
SUMMARY;LANGUAGE=en-us:'Lab Check Week'
TRANSP:OPAQUE
UID:040000008200E00074C5B7101A82E00800000000F02B82F13370D401000000000000000
	0100000008DBBEACAA05D654C913BF3E38298AA93
X-ALT-DESC;FMTTYPE=text/html:<!DOCTYPE HTML PUBLIC "-//W3C//DTD HTML 3.2//E
	N">\n<HTML>\n<HEAD>\n<META NAME="Generator" CONTENT="MS Exchange Server ve
	rsion rmj.rmm.rup.rpr">\n<TITLE></TITLE>\n</HEAD>\n<BODY>\n<!-- Converted 
	from text/rtf format -->\n\n<P DIR=LTR><SPAN LANG="en-us"><B></B></SPAN><S
	PAN LANG="en-us"><B></B></SPAN><SPAN LANG="en-us"><B><FONT SIZE=7 FACE="He
	lvitica">LAB</FONT></B></SPAN><SPAN LANG="en-us"><B></B></SPAN><SPAN LANG=
	"en-us"><B></B></SPAN><SPAN LANG="en-us"><B><FONT FACE="Arial"></FONT></B>
	</SPAN><SPAN LANG="en-us"><B></B></SPAN><SPAN LANG="en-us"><B></B></SPAN><
	SPAN LANG="en-us"><B> <FONT SIZE=7 FACE="Helvitica">CHECK WEEK INSTRUCTION
	S</FONT></B></SPAN><SPAN LANG="en-us"></SPAN><SPAN LANG="en-us"></SPAN><SP
	AN LANG="en-us"></SPAN></P>\n\n<P DIR=LTR><SPAN LANG="en-us"></SPAN><SPAN 
	LANG="en-us"></SPAN><SPAN LANG="en-us"><FONT FACE="Calibri">❶</FONT></SP
	AN><SPAN LANG="en-us"></SPAN><SPAN LANG="en-us"></SPAN><SPAN LANG="en-us">
	<FONT FACE="Arial"></FONT></SPAN><SPAN LANG="en-us"></SPAN><SPAN LANG="en-
	us"></SPAN><SPAN LANG="en-us"> <FONT FACE="Helvitica">Visit</FONT></SPAN><
	SPAN LANG="en-us"></SPAN><SPAN LANG="en-us"></SPAN><SPAN LANG="en-us"><FON
	T FACE="Arial"></FONT></SPAN><SPAN LANG="en-us"></SPAN><SPAN LANG="en-us">
	</SPAN><SPAN LANG="en-us"> <FONT FACE="Helvitica">the Thermo Fisher Scient
	ific and download your</FONT></SPAN><SPAN LANG="en-us"></SPAN><SPAN LANG="
	en-us"></SPAN><SPAN LANG="en-us"><FONT FACE="Arial"></FONT></SPAN><SPAN LA
	NG="en-us"> </SPAN><A HREF="http://www.thermofisher.com.au/labcheckweek"><
	SPAN LANG="en-us"></SPAN><SPAN LANG="en-us"></SPAN><SPAN LANG="en-us"><U><
	FONT COLOR="#0563C1" FACE="Helvitica">‘Lab Check Week’</FONT></U></SPA
	N><SPAN LANG="en-us"></SPAN></A><SPAN LANG="en-us"></SPAN><SPAN LANG="en-u
	s"></SPAN><SPAN LANG="en-us"><FONT FACE="Helvitica"> guide</FONT></SPAN><S
	PAN LANG="en-us"></SPAN><SPAN LANG="en-us"></SPAN><SPAN LANG="en-us"><FONT
	 FACE="Arial"></FONT></SPAN><SPAN LANG="en-us"></SPAN><SPAN LANG="en-us"><
	/SPAN><SPAN LANG="en-us"> <FONT FACE="Helvitica">(</FONT></SPAN><SPAN LANG
	="en-us"></SPAN><A HREF="http://www.thermofisher.com.au/labcheckweek"><SPA
	N LANG="en-us"></SPAN><SPAN LANG="en-us"></SPAN><SPAN LANG="en-us"><U><FON
	T COLOR="#0563C1" FACE="Helvitica">www.thermofisher.com.au/labcheckweek</F
	ONT></U></SPAN><SPAN LANG="en-us"></SPAN></A><SPAN LANG="en-us"></SPAN><SP
	AN LANG="en-us"></SPAN><SPAN LANG="en-us"><FONT FACE="Helvitica">)</FONT><
	/SPAN><SPAN LANG="en-us"></SPAN><SPAN LANG="en-us"></SPAN><SPAN LANG="en-u
	s"><FONT FACE="Arial"></FONT></SPAN><SPAN LANG="en-us"></SPAN><SPAN LANG="
	en-us"></SPAN><SPAN LANG="en-us"> <FONT FACE="Helvitica">for an overview o
	f the lab check list for your basic benchtop equipment.</FONT></SPAN><SPAN
	 LANG="en-us"></SPAN><SPAN LANG="en-us"></SPAN><SPAN LANG="en-us"><FONT FA
	CE="Arial"> </FONT></SPAN></P>\n\n<P DIR=LTR><SPAN LANG="en-us"></SPAN><SP
	AN LANG="en-us"></SPAN><SPAN LANG="en-us"><FONT FACE="Cambria Math">❷</F
	ONT></SPAN><SPAN LANG="en-us"></SPAN><SPAN LANG="en-us"></SPAN><SPAN LANG=
	"en-us"><FONT FACE="Arial"></FONT></SPAN><SPAN LANG="en-us"></SPAN><SPAN L
	ANG="en-us"></SPAN><SPAN LANG="en-us"> <FONT FACE="Helvitica">Complete you
	r check list for each piece of bench tip equipment.</FONT></SPAN><SPAN LAN
	G="en-us"></SPAN><SPAN LANG="en-us"></SPAN><SPAN LANG="en-us"><FONT FACE="
	Arial"></FONT></SPAN><SPAN LANG="en-us"></SPAN><SPAN LANG="en-us"></SPAN><
	SPAN LANG="en-us"> <FONT FACE="Helvitica">Refer to</FONT></SPAN><SPAN LANG
	="en-us"></SPAN><SPAN LANG="en-us"></SPAN><SPAN LANG="en-us"><FONT FACE="A
	rial"></FONT></SPAN><SPAN LANG="en-us"> </SPAN><A HREF="http://www.thermof
	isher.com.au/labcheckweek"><SPAN LANG="en-us"></SPAN><SPAN LANG="en-us"></
	SPAN><SPAN LANG="en-us"><U><FONT COLOR="#0563C1" FACE="Helvitica">www.ther
	mofisher.com.au/labcheckweek</FONT></U></SPAN><SPAN LANG="en-us"></SPAN></
	A><SPAN LANG="en-us"></SPAN><SPAN LANG="en-us"></SPAN><SPAN LANG="en-us"><
	FONT FACE="Helvitica"> for your guide of tests for each instrument type</F
	ONT></SPAN><SPAN LANG="en-us"></SPAN><SPAN LANG="en-us"></SPAN><SPAN LANG=
	"en-us"></SPAN></P>\n\n<P DIR=LTR><SPAN LANG="en-us"><B></B></SPAN><SPAN L
	ANG="en-us"><B></B></SPAN><SPAN LANG="en-us"><B><FONT COLOR="#000000" FACE
	="Helvitica">RECOMMENDED TEST</FONT></B></SPAN><SPAN LANG="en-us"></SPAN><
	SPAN LANG="en-us"></SPAN><SPAN LANG="en-us"></SPAN></P>\n\n<P DIR=LTR><SPA
	N LANG="en-us"><B></B></SPAN><SPAN LANG="en-us"><B></B></SPAN><SPAN LANG="
	en-us"><B><FONT FACE="Arial">      <BR>\n</FONT></B></SPAN><SPAN LAN
	G="en-us"></SPAN><SPAN LANG="en-us"></SPAN><SPAN LANG="en-us"><FONT FACE="
	Helvitica">Performance</FONT></SPAN><SPAN LANG="en-us"><B></B></SPAN><SPAN
	 LANG="en-us"><B></B></SPAN><SPAN LANG="en-us"><B><FONT FACE="Arial"></FON
	T></B></SPAN><SPAN LANG="en-us"><B></B></SPAN><SPAN LANG="en-us"><B></B></
	SPAN><SPAN LANG="en-us"><B><BR>\n</B></SPAN><SPAN LANG="en-us"></SPAN><SPA
	N LANG="en-us"></SPAN><SPAN LANG="en-us"><FONT FACE="Helvitica">Accuracy</
	FONT></SPAN><SPAN LANG="en-us"><B></B></SPAN><SPAN LANG="en-us"><B></B></S
	PAN><SPAN LANG="en-us"><B><FONT FACE="Arial"></FONT></B></SPAN><SPAN LANG=
	"en-us"><B></B></SPAN><SPAN LANG="en-us"><B></B></SPAN><SPAN LANG="en-us">
	<B><BR>\n</B></SPAN><SPAN LANG="en-us"></SPAN><SPAN LANG="en-us"></SPAN><S
	PAN LANG="en-us"><FONT FACE="Helvitica">Uniformity</FONT></SPAN><SPAN LANG
	="en-us"><B></B></SPAN><SPAN LANG="en-us"><B></B></SPAN><SPAN LANG="en-us"
	><B><FONT FACE="Arial"></FONT></B></SPAN><SPAN LANG="en-us"><B></B></SPAN>
	<SPAN LANG="en-us"><B></B></SPAN><SPAN LANG="en-us"><B><BR>\n</B></SPAN><S
	PAN LANG="en-us"></SPAN><SPAN LANG="en-us"></SPAN><SPAN LANG="en-us"><FONT
	 FACE="Helvitica">Sensitivity</FONT></SPAN><SPAN LANG="en-us"><B></B></SPA
	N><SPAN LANG="en-us"><B></B></SPAN><SPAN LANG="en-us"><B><FONT FACE="Arial
	"></FONT></B></SPAN><SPAN LANG="en-us"><B></B></SPAN><SPAN LANG="en-us"><B
	></B></SPAN><SPAN LANG="en-us"><B><BR>\n</B></SPAN><SPAN LANG="en-us"></SP
	AN><SPAN LANG="en-us"></SPAN><SPAN LANG="en-us"><FONT FACE="Helvitica">Ste
	rility</FONT></SPAN><SPAN LANG="en-us"><B></B></SPAN><SPAN LANG="en-us"><B
	></B></SPAN><SPAN LANG="en-us"><B><FONT FACE="Arial"></FONT></B></SPAN><SP
	AN LANG="en-us"><B></B></SPAN><SPAN LANG="en-us"><B></B></SPAN><SPAN LANG=
	"en-us"><B><BR>\n</B></SPAN><SPAN LANG="en-us"></SPAN><SPAN LANG="en-us"><
	/SPAN><SPAN LANG="en-us"><FONT FACE="Helvitica">Cleanliness</FONT></SPAN><
	SPAN LANG="en-us"></SPAN><SPAN LANG="en-us"></SPAN><SPAN LANG="en-us"><FON
	T FACE="Arial">      </FONT></SPAN><SPAN LANG="en-us"><B></B></SPAN>
	<SPAN LANG="en-us"><B></B></SPAN><SPAN LANG="en-us"><B><BR>\n</B></SPAN><S
	PAN LANG="en-us"></SPAN><SPAN LANG="en-us"></SPAN><SPAN LANG="en-us"><FONT
	 FACE="Helvitica">Electrical Safety      </FONT></SPAN><SPAN LANG="e
	n-us"></SPAN><SPAN LANG="en-us"></SPAN><SPAN LANG="en-us"><FONT FACE="Aria
	l">        </FONT></SPAN><SPAN LANG="en-us"><B></B></SPAN><SPAN LAN
	G="en-us"><B></B></SPAN><SPAN LANG="en-us"><B><FONT FACE="Arial">     
	   <BR>\n</FONT></B></SPAN><SPAN LANG="en-us"></SPAN><SPAN LANG="en-us"
	></SPAN><SPAN LANG="en-us"><FONT FACE="Helvitica">Other </FONT></SPAN><SP
	AN LANG="en-us"><B></B></SPAN><SPAN LANG="en-us"><B></B></SPAN><SPAN LANG=
	"en-us"><B><FONT FACE="Arial">         <BR>\n</FONT></B></SPAN><SP
	AN LANG="en-us"></SPAN><SPAN LANG="en-us"></SPAN><SPAN LANG="en-us"></SPAN
	></P>\n\n<P DIR=LTR><SPAN LANG="en-us"><B></B></SPAN><SPAN LANG="en-us"><B
	></B></SPAN><SPAN LANG="en-us"><B><FONT FACE="Helvitica">NOTE:</FONT></B><
	/SPAN><SPAN LANG="en-us"></SPAN><SPAN LANG="en-us"></SPAN><SPAN LANG="en-u
	s"><FONT FACE="Helvitica"> Allow up to 60 minutes per piece of equipment</
	FONT></SPAN><SPAN LANG="en-us"></SPAN><SPAN LANG="en-us"></SPAN><SPAN LANG
	="en-us"><FONT FACE="Arial"> </FONT></SPAN></P>\n\n<P DIR=LTR><SPAN LANG="
	en-us"></SPAN><SPAN LANG="en-us"></SPAN><SPAN LANG="en-us"><FONT FACE="Cam
	bria Math">❸</FONT></SPAN><SPAN LANG="en-us"></SPAN><SPAN LANG="en-us"><
	/SPAN><SPAN LANG="en-us"><FONT FACE="Arial"></FONT></SPAN><SPAN LANG="en-u
	s"></SPAN><SPAN LANG="en-us"></SPAN><SPAN LANG="en-us"> <FONT FACE="Helvit
	ica">Complete the</FONT></SPAN><SPAN LANG="en-us"></SPAN><SPAN LANG="en-us
	"></SPAN><SPAN LANG="en-us"><FONT FACE="Arial"></FONT></SPAN><SPAN LANG="e
	n-us"></SPAN><SPAN LANG="en-us"></SPAN><SPAN LANG="en-us"> <FONT FACE="Hel
	vitica">online registration and log you results.</FONT></SPAN><SPAN LANG="
	en-us"></SPAN><SPAN LANG="en-us"></SPAN><SPAN LANG="en-us"><FONT FACE="Ari
	al"></FONT></SPAN><SPAN LANG="en-us"></SPAN><SPAN LANG="en-us"></SPAN><SPA
	N LANG="en-us"> <FONT FACE="Helvitica">(INSERT LINK From Amy)</FONT></SPAN
	><SPAN LANG="en-us"></SPAN><SPAN LANG="en-us"></SPAN><SPAN LANG="en-us"></
	SPAN></P>\n\n<P DIR=LTR><SPAN LANG="en-us"></SPAN><SPAN LANG="en-us"></SPA
	N><SPAN LANG="en-us"><FONT FACE="Cambria Math">❹</FONT></SPAN><SPAN LANG
	="en-us"></SPAN><SPAN LANG="en-us"></SPAN><SPAN LANG="en-us"><FONT FACE="A
	rial"></FONT></SPAN><SPAN LANG="en-us"></SPAN><SPAN LANG="en-us"></SPAN><S
	PAN LANG="en-us"> <FONT FACE="Helvitica">Receive your</FONT></SPAN><SPAN L
	ANG="en-us"></SPAN><SPAN LANG="en-us"></SPAN><SPAN LANG="en-us"><FONT FACE
	="Arial"></FONT></SPAN><SPAN LANG="en-us"></SPAN><SPAN LANG="en-us"></SPAN
	><SPAN LANG="en-us"> <FONT FACE="Helvitica">‘2018</FONT></SPAN><SPAN LAN
	G="en-us"></SPAN><SPAN LANG="en-us"></SPAN><SPAN LANG="en-us"><FONT FACE="
	Arial"></FONT></SPAN><SPAN LANG="en-us"></SPAN><SPAN LANG="en-us"></SPAN><
	SPAN LANG="en-us"> <FONT FACE="Helvitica">Lab Check Week’ Certificate.</
	FONT></SPAN><SPAN LANG="en-us"></SPAN><SPAN LANG="en-us"></SPAN><SPAN LANG
	="en-us"><FONT FACE="Arial"> </FONT></SPAN></P>\n\n<P DIR=LTR><SPAN LANG="
	en-us"></SPAN><A HREF="http://www.thermofisher.com.au/labcheckweek"><SPAN 
	LANG="en-us"></SPAN><SPAN LANG="en-us"></SPAN><SPAN LANG="en-us"><U><FONT 
	COLOR="#0563C1" FACE="Helvitica">www.thermofisher.com.au/labcheckweek</FON
	T></U></SPAN><SPAN LANG="en-us"></SPAN></A><SPAN LANG="en-us"></SPAN><SPAN
	 LANG="en-us"></SPAN><SPAN LANG="en-us"></SPAN></P>\n\n</BODY>\n</HTML>
X-MICROSOFT-CDO-BUSYSTATUS:BUSY
X-MICROSOFT-CDO-IMPORTANCE:1
X-MICROSOFT-DISALLOW-COUNTER:FALSE
X-MS-OLK-AUTOFILLLOCATION:FALSE
X-MS-OLK-CONFTYPE:0
BEGIN:VALARM
TRIGGER:-PT15M
ACTION:DISPLAY
DESCRIPTION:Reminder
END:VALARM
END:VEVENT
END:VCALENDAR
